BEGIN:VCALENDAR
VERSION:2.0
PRODID:-//Gemeinschaft Engagierter Bürger - ECPv6.15.15//NONSGML v1.0//EN
CALSCALE:GREGORIAN
METHOD:PUBLISH
X-WR-CALNAME:Gemeinschaft Engagierter Bürger
X-ORIGINAL-URL:https://geb-wallersdorf.de/wp
X-WR-CALDESC:Veranstaltungen für Gemeinschaft Engagierter Bürger
REFRESH-INTERVAL;VALUE=DURATION:PT1H
X-Robots-Tag:noindex
X-PUBLISHED-TTL:PT1H
BEGIN:VTIMEZONE
TZID:Europe/Berlin
BEGIN:DAYLIGHT
TZOFFSETFROM:+0100
TZOFFSETTO:+0200
TZNAME:CEST
DTSTART:20250330T010000
END:DAYLIGHT
BEGIN:STANDARD
TZOFFSETFROM:+0200
TZOFFSETTO:+0100
TZNAME:CET
DTSTART:20251026T010000
END:STANDARD
BEGIN:DAYLIGHT
TZOFFSETFROM:+0100
TZOFFSETTO:+0200
TZNAME:CEST
DTSTART:20260329T010000
END:DAYLIGHT
BEGIN:STANDARD
TZOFFSETFROM:+0200
TZOFFSETTO:+0100
TZNAME:CET
DTSTART:20261025T010000
END:STANDARD
BEGIN:DAYLIGHT
TZOFFSETFROM:+0100
TZOFFSETTO:+0200
TZNAME:CEST
DTSTART:20270328T010000
END:DAYLIGHT
BEGIN:STANDARD
TZOFFSETFROM:+0200
TZOFFSETTO:+0100
TZNAME:CET
DTSTART:20271031T010000
END:STANDARD
END:VTIMEZONE
BEGIN:VEVENT
DTSTART;TZID=Europe/Berlin:20260201T180000
DTEND;TZID=Europe/Berlin:20260201T200000
DTSTAMP:20260422T013115
CREATED:20260120T184221Z
LAST-MODIFIED:20260120T184335Z
UID:766-1769968800-1769976000@geb-wallersdorf.de
SUMMARY:GEB lädt ein: Unsere Termine zur Kommunalwahl 2026 (Ettling/Westerndorf)
DESCRIPTION:Im Rahmen der Kommunalwahl am 08. März 2026 laden wir euch herzlich zu unseren Wahlveranstaltungen der Gemeinschaft Engagierter Bürger (GEB) im Asters Holunderhof in Westerndorf ein.Nutzt die Gelegenheit\, unsere Kandidatinnen und Kandidaten persönlich kennenzulernen\, mit uns ins Gespräch zu kommen und eure Fragen\, Anliegen und Ideen direkt einzubringen. \nUnsere Veranstaltungen stehen für einen offenen Austausch auf Augenhöhe\, transparente Kommunalpolitik und echtes Interesse an den Themen\, die unsere Gemeinde bewegen. Ob Informationsabend\, Bürgertreff oder gemeinsame Abschlussveranstaltung – wir freuen uns auf viele gute Gespräche in angenehmer Atmosphäre. \nGemeinsam. Engagiert. Bürgernah.Wir GEBen alles für unsere Gemeinde und freuen uns auf euren Besuch.
URL:https://geb-wallersdorf.de/wp/veranstaltung/geb-laedt-ein-unsere-termine-zur-kommunalwahl-2026-ettling-westerndorf/
LOCATION:Asters Holunderhof\, Westerndorf
ATTACH;FMTTYPE=image/jpeg:https://geb-wallersdorf.de/wp/wp-content/uploads/2026/01/holunderhof-e1768934515151.jpeg
END:VEVENT
BEGIN:VEVENT
DTSTART;TZID=Europe/Berlin:20260205T190000
DTEND;TZID=Europe/Berlin:20260205T210000
DTSTAMP:20260422T013115
CREATED:20260120T184833Z
LAST-MODIFIED:20260120T184833Z
UID:770-1770318000-1770325200@geb-wallersdorf.de
SUMMARY:GEB lädt ein: Unsere Termine zur Kommunalwahl 2026 (Haidenkofen)
DESCRIPTION:Im Rahmen der Kommunalwahl am 08. März 2026 laden wir euch herzlich zu unseren Wahlveranstaltungen der Gemeinschaft Engagierter Bürger (GEB) im Feuerwehrhaus Haidenkofen ein.Nutzt die Gelegenheit\, unsere Kandidatinnen und Kandidaten persönlich kennenzulernen\, mit uns ins Gespräch zu kommen und eure Fragen\, Anliegen und Ideen direkt einzubringen. \nUnsere Veranstaltungen stehen für einen offenen Austausch auf Augenhöhe\, transparente Kommunalpolitik und echtes Interesse an den Themen\, die unsere Gemeinde bewegen. Ob Informationsabend\, Bürgertreff oder gemeinsame Abschlussveranstaltung – wir freuen uns auf viele gute Gespräche in angenehmer Atmosphäre. \nGemeinsam. Engagiert. Bürgernah.Wir GEBen alles für unsere Gemeinde und freuen uns auf euren Besuch.
URL:https://geb-wallersdorf.de/wp/veranstaltung/geb-laedt-ein-unsere-termine-zur-kommunalwahl-2026-haidenkofen/
LOCATION:Feuerwehrhaus Haidenkofen
ATTACH;FMTTYPE=image/jpeg:https://geb-wallersdorf.de/wp/wp-content/uploads/2026/01/ffw-haidenkofen-e1768934877953.jpeg
END:VEVENT
BEGIN:VEVENT
DTSTART;TZID=Europe/Berlin:20260208T180000
DTEND;TZID=Europe/Berlin:20260208T200000
DTSTAMP:20260422T013115
CREATED:20260120T185143Z
LAST-MODIFIED:20260120T190104Z
UID:775-1770573600-1770580800@geb-wallersdorf.de
SUMMARY:GEB lädt ein: Unsere Termine zur Kommunalwahl 2026 (Altenbuch)
DESCRIPTION:Im Rahmen der Kommunalwahl am 08. März 2026 laden wir euch herzlich zu unseren Wahlveranstaltungen der Gemeinschaft Engagierter Bürger (GEB) ins Sportheim (Pizzahaus) Altenbuch ein.Nutzt die Gelegenheit\, unsere Kandidatinnen und Kandidaten persönlich kennenzulernen\, mit uns ins Gespräch zu kommen und eure Fragen\, Anliegen und Ideen direkt einzubringen. \nUnsere Veranstaltungen stehen für einen offenen Austausch auf Augenhöhe\, transparente Kommunalpolitik und echtes Interesse an den Themen\, die unsere Gemeinde bewegen. Ob Informationsabend\, Bürgertreff oder gemeinsame Abschlussveranstaltung – wir freuen uns auf viele gute Gespräche in angenehmer Atmosphäre. \nGemeinsam. Engagiert. Bürgernah.Wir GEBen alles für unsere Gemeinde und freuen uns auf euren Besuch.
URL:https://geb-wallersdorf.de/wp/veranstaltung/geb-laedt-ein-unsere-termine-zur-kommunalwahl-2026-altenbuch/
LOCATION:Sportheim Altenbuch
ATTACH;FMTTYPE=image/jpeg:https://geb-wallersdorf.de/wp/wp-content/uploads/2026/01/pizzahaus-altenbuch-e1768935086316.jpeg
END:VEVENT
BEGIN:VEVENT
DTSTART;TZID=Europe/Berlin:20260214T100000
DTEND;TZID=Europe/Berlin:20260214T130000
DTSTAMP:20260422T013115
CREATED:20260120T185530Z
LAST-MODIFIED:20260120T185530Z
UID:779-1771063200-1771074000@geb-wallersdorf.de
SUMMARY:GEB lädt ein: Unsere Termine zur Kommunalwahl 2026 (Wallersdorf)
DESCRIPTION:Im Rahmen der Kommunalwahl am 08. März 2026 laden wir euch herzlich zu unseren Wahlveranstaltungen der Gemeinschaft Engagierter Bürger (GEB) zum Infostand in Wallersdorf (Marktplatz) mit Krapfen und Kaffee ein.Nutzt die Gelegenheit\, unsere Kandidatinnen und Kandidaten persönlich kennenzulernen\, mit uns ins Gespräch zu kommen und eure Fragen\, Anliegen und Ideen direkt einzubringen. \nUnsere Veranstaltungen stehen für einen offenen Austausch auf Augenhöhe\, transparente Kommunalpolitik und echtes Interesse an den Themen\, die unsere Gemeinde bewegen. Ob Informationsabend\, Bürgertreff oder gemeinsame Abschlussveranstaltung – wir freuen uns auf viele gute Gespräche in angenehmer Atmosphäre. \nGemeinsam. Engagiert. Bürgernah.Wir GEBen alles für unsere Gemeinde und freuen uns auf euren Besuch.
URL:https://geb-wallersdorf.de/wp/veranstaltung/geb-laedt-ein-unsere-termine-zur-kommunalwahl-2026-wallersdorf/
LOCATION:Marktplatz Wallersdorf
ATTACH;FMTTYPE=image/jpeg:https://geb-wallersdorf.de/wp/wp-content/uploads/2026/01/markplatz-e1768935314843.jpeg
END:VEVENT
BEGIN:VEVENT
DTSTART;TZID=Europe/Berlin:20260220T190000
DTEND;TZID=Europe/Berlin:20260220T220000
DTSTAMP:20260422T013115
CREATED:20260120T190853Z
LAST-MODIFIED:20260128T145822Z
UID:783-1771614000-1771624800@geb-wallersdorf.de
SUMMARY:GEB lädt ein zur Abschlussveranstaltung zur Kommunalwahl 2026 in Wallersdorf
DESCRIPTION:Zum Abschluss unserer Wahlveranstaltungen laden wir alle interessierten Bürgerinnen und Bürger herzlich ein\, noch einmal gemeinsam zusammenzukommen. \nUns geht es an diesem Abend nicht um Reden von der Bühne\, sondern um das Miteinander:\nWir möchten mit euch zusammensitzen\, zuhören\, ins Gespräch kommen und über das sprechen\, was euch bewegt. Offen\, ehrlich und ohne große Formate – so\, wie man sich in der Gemeinde begegnet. \nAls Teil des Abends gibt es einen Gastauftritt von Tom Bauer. \nMit humorvollen\, pointierten Beiträgen bringt er einen lockeren Akzent ein\, der zum Schmunzeln anregt und auch Raum zum Nachdenken lässt – eingebettet in den gemeinsamen Abend.\nNehmt euch Zeit\, kommt vorbei\, setzt euch dazu und verbringt mit uns ein paar entspannte Stunden. Wir freuen uns auf viele Gespräche\, neue Begegnungen und bekannte Gesichter. \n📍 Bräuhof Wallersdorf\n🗓️ Freitag\, 20. Februar\n🕖 19.00 Uhr \nGemeinsam. Engagiert. Bürgernah.\nWir GEBen alles für unsere Gemeinde.\n🗳️ Kommunalwahl am 08. März 2026
URL:https://geb-wallersdorf.de/wp/veranstaltung/geb-laedt-ein-zur-abschlussveranstaltung-zur-kommunalwahl-2026-in-wallersdorf/
LOCATION:Bräuhof Wallersdorf
ATTACH;FMTTYPE=image/jpeg:https://geb-wallersdorf.de/wp/wp-content/uploads/2026/01/Tom-Bauer_20.02.2026.jpeg
END:VEVENT
BEGIN:VEVENT
DTSTART;TZID=Europe/Berlin:20260222T160000
DTEND;TZID=Europe/Berlin:20260222T210000
DTSTAMP:20260422T013115
CREATED:20260122T104249Z
LAST-MODIFIED:20260124T131152Z
UID:1131-1771776000-1771794000@geb-wallersdorf.de
SUMMARY:„Ned mit mir!“ – Präventionskabarett
DESCRIPTION:Betrugsmaschen wie Enkeltrick\, Schockanrufe oder Internetkriminalität treffen immer wieder vor allem ältere Menschen – oft unerwartet und mit schwerwiegenden Folgen. Genau hier setzt das Präventionsprogramm „Ned mit mir!“ an. \nUnter dem Motto „Lassen Sie sich nicht täuschen und lachen Sie dem Betrug ins Gesicht“ erwartet die Besucherinnen und Besucher ein informativer und zugleich unterhaltsamer Nachmittag aus Aufklärung\, Musik und Humor. \nPolizeiobermeister Rudolf Schmuderer informiert praxisnah über aktuelle Betrugsformen\, gibt konkrete Tipps zur Vorbeugung und zeigt\, wie man sich im Ernstfall richtig verhält. Ergänzt wird das Programm durch Kabarettist Tom Bauer\, der das Thema mit Humor aufgreift und so einen niederschwelligen\, verständlichen Zugang schafft. \nBesonders freut uns\, dass Franz Voit\, Seniorenbeauftragter der GEB und Marktrat\, als Initiator und Ideengeber maßgeblich zur Entstehung dieses Programms beigetragen hat. Das Projekt wurde durch den Landkreis Dingolfing-Landau initiiert und wird nun erstmals in Eichendorf umgesetzt. \nDa Prävention keine Gemeindegrenzen kennt\, möchten wir diese Veranstaltung bewusst auf unserer GEB-Seite teilen. Alle Interessierten aus der Gemeinde Wallersdorf sind herzlich eingeladen\, sich vor Ort selbst ein Bild zu machen und wertvolle Informationen mitzunehmen. \nSonntag\, 22. Februar 2026\nBeginn: 17:00 Uhr · Einlass: 16:00 Uhr\nOrt: Postsaal Eichendorf\, Marktplatz 7\, 94428 Eichendorf\nEintritt: frei \nWeitere Informationen zum Programm „Ned mit mir!“ finden Sie mit Klick auf den Link \n 
URL:https://geb-wallersdorf.de/wp/veranstaltung/ned-mit-mir-praeventionskabarett/
END:VEVENT
END:VCALENDAR