BEGIN:VCALENDAR
VERSION:2.0
PRODID:-//Gemeinschaft Engagierter Bürger - ECPv6.15.15//NONSGML v1.0//EN
CALSCALE:GREGORIAN
METHOD:PUBLISH
X-ORIGINAL-URL:https://geb-wallersdorf.de/wp
X-WR-CALDESC:Veranstaltungen für Gemeinschaft Engagierter Bürger
REFRESH-INTERVAL;VALUE=DURATION:PT1H
X-Robots-Tag:noindex
X-PUBLISHED-TTL:PT1H
BEGIN:VTIMEZONE
TZID:Europe/Berlin
BEGIN:DAYLIGHT
TZOFFSETFROM:+0100
TZOFFSETTO:+0200
TZNAME:CEST
DTSTART:20250330T010000
END:DAYLIGHT
BEGIN:STANDARD
TZOFFSETFROM:+0200
TZOFFSETTO:+0100
TZNAME:CET
DTSTART:20251026T010000
END:STANDARD
BEGIN:DAYLIGHT
TZOFFSETFROM:+0100
TZOFFSETTO:+0200
TZNAME:CEST
DTSTART:20260329T010000
END:DAYLIGHT
BEGIN:STANDARD
TZOFFSETFROM:+0200
TZOFFSETTO:+0100
TZNAME:CET
DTSTART:20261025T010000
END:STANDARD
BEGIN:DAYLIGHT
TZOFFSETFROM:+0100
TZOFFSETTO:+0200
TZNAME:CEST
DTSTART:20270328T010000
END:DAYLIGHT
BEGIN:STANDARD
TZOFFSETFROM:+0200
TZOFFSETTO:+0100
TZNAME:CET
DTSTART:20271031T010000
END:STANDARD
END:VTIMEZONE
BEGIN:VEVENT
DTSTART;TZID=Europe/Berlin:20260114T190000
DTEND;TZID=Europe/Berlin:20260114T210000
DTSTAMP:20260422T030805
CREATED:20260120T165946Z
LAST-MODIFIED:20260120T190219Z
UID:701-1768417200-1768424400@geb-wallersdorf.de
SUMMARY:GEB lädt ein: Unsere Termine zur Kommunalwahl 2026 (Wallersdorf)
DESCRIPTION:Im Rahmen der Kommunalwahl am 08. März 2026 laden wir euch herzlich zu unseren Wahlveranstaltungen der Gemeinschaft Engagierter Bürger (GEB) im Bräuhof Wallersdorf ein.Nutzt die Gelegenheit\, unsere Kandidatinnen und Kandidaten persönlich kennenzulernen\, mit uns ins Gespräch zu kommen und eure Fragen\, Anliegen und Ideen direkt einzubringen. \nUnsere Veranstaltungen stehen für einen offenen Austausch auf Augenhöhe\, transparente Kommunalpolitik und echtes Interesse an den Themen\, die unsere Gemeinde bewegen. Ob Informationsabend\, Bürgertreff oder gemeinsame Abschlussveranstaltung – wir freuen uns auf viele gute Gespräche in angenehmer Atmosphäre. \nGemeinsam. Engagiert. Bürgernah.Wir GEBen alles für unsere Gemeinde und freuen uns auf euren Besuch.
URL:https://geb-wallersdorf.de/wp/veranstaltung/unsere-wahlveranstaltungen-persoenlich-offen-und-buergernah/
LOCATION:Bräuhof Wallersdorf
ATTACH;FMTTYPE=image/jpeg:https://geb-wallersdorf.de/wp/wp-content/uploads/2026/01/braeuhof-e1768934233901.jpeg
END:VEVENT
BEGIN:VEVENT
DTSTART;TZID=Europe/Berlin:20260121T190000
DTEND;TZID=Europe/Berlin:20260121T210000
DTSTAMP:20260422T030805
CREATED:20260120T170336Z
LAST-MODIFIED:20260120T183652Z
UID:705-1769022000-1769029200@geb-wallersdorf.de
SUMMARY:GEB lädt ein: Unsere Termine zur Kommunalwahl 2026 (Haidlfing)
DESCRIPTION:Im Rahmen der Kommunalwahl am 08. März 2026 laden wir euch herzlich zu unseren Wahlveranstaltungen der Gemeinschaft Engagierter Bürger (GEB) in der Sportheimgaststätte in Haidlfing ein.Nutzt die Gelegenheit\, unsere Kandidatinnen und Kandidaten persönlich kennenzulernen\, mit uns ins Gespräch zu kommen und eure Fragen\, Anliegen und Ideen direkt einzubringen. \nUnsere Veranstaltungen stehen für einen offenen Austausch auf Augenhöhe\, transparente Kommunalpolitik und echtes Interesse an den Themen\, die unsere Gemeinde bewegen. Ob Informationsabend\, Bürgertreff oder gemeinsame Abschlussveranstaltung – wir freuen uns auf viele gute Gespräche in angenehmer Atmosphäre. \nGemeinsam. Engagiert. Bürgernah.Wir GEBen alles für unsere Gemeinde und freuen uns auf euren Besuch.
URL:https://geb-wallersdorf.de/wp/veranstaltung/unsere-wahlveranstaltungen-persoenlich-offen-und-buergernah-2/
LOCATION:Sportheimgaststätte Haidlfing
ATTACH;FMTTYPE=image/jpeg:https://geb-wallersdorf.de/wp/wp-content/uploads/2026/01/WhatsApp-Image-2026-01-20-at-19.15.53-e1768934186670.jpeg
END:VEVENT
BEGIN:VEVENT
DTSTART;TZID=Europe/Berlin:20260125T150000
DTEND;TZID=Europe/Berlin:20260125T180000
DTSTAMP:20260422T030805
CREATED:20260121T112539Z
LAST-MODIFIED:20260121T162152Z
UID:920-1769353200-1769364000@geb-wallersdorf.de
SUMMARY:Jungbürgerversammlung Wallersdorf
DESCRIPTION:Die Jungbürgerversammlung in Wallersdorf bietet Jugendlichen und jungen Erwachsenen die Möglichkeit\, ihre Ideen\, Wünsche und Anliegen aktiv einzubringen und die Zukunft ihres Heimatortes mitzugestalten. Unter dem Motto „Mitreden. Mitmachen. Mitgestalten.“ steht der offene Austausch zwischen jungen Menschen und den Verantwortlichen der Gemeinde im Mittelpunkt. \nEingeladen sind alle Interessierten im Alter von 12 bis 21 Jahren\, die sich für kommunale Themen interessieren und ihre Sichtweisen einbringen möchten. Die Teilnehmenden haben die Gelegenheit\, ihre Verbesserungsvorschläge zu äußern und direkt mit Vertretern der Gemeinde ins Gespräch zu kommen. \nAuf einen regen Austausch freuen sich unter anderem Bürgermeister Franz Aster\, Jugendbeauftragter Enrico Koch sowie Gemeindejugendpflegerin Julia Schreieder.Für Essen und Getränke ist gesorgt. \nDie Veranstaltung findet am Sonntag\, 25. Januar 2026\, um 15:00 Uhr im Bräuhof Wallersdorf (Marktplatz 1) statt.Eine Anmeldung ist über https://docs.google.com/forms/d/e/1FAIpQLSdGEtL2gLpr4rG3eOVoNjeYwuB2k8lvbxJtOl1QC9ahK5fxzQ/viewform\, dem QR-Code auf dem Flyer\, oder per E-Mail (schreiederj@dingolfing-landau.de) möglich.
URL:https://geb-wallersdorf.de/wp/veranstaltung/jungbuergerversammlung-wallersdorf/
LOCATION:Bräuhof Wallersdorf
ATTACH;FMTTYPE=image/webp:https://geb-wallersdorf.de/wp/wp-content/uploads/2026/01/Jungbuergerversammlung-Flyer-e1768994582112.webp
END:VEVENT
BEGIN:VEVENT
DTSTART;TZID=Europe/Berlin:20260129T190000
DTEND;TZID=Europe/Berlin:20260129T210000
DTSTAMP:20260422T030805
CREATED:20260120T172212Z
LAST-MODIFIED:20260120T184407Z
UID:714-1769713200-1769720400@geb-wallersdorf.de
SUMMARY:GEB lädt ein: Unsere Termine zur Kommunalwahl 2026 (Moosführt)
DESCRIPTION:Im Rahmen der Kommunalwahl am 08. März 2026 laden wir euch herzlich zu unseren Wahlveranstaltungen der Gemeinschaft Engagierter Bürger (GEB) in das Gasthaus Haselbeck in Moosführt ein.Nutzt die Gelegenheit\, unsere Kandidatinnen und Kandidaten persönlich kennenzulernen\, mit uns ins Gespräch zu kommen und eure Fragen\, Anliegen und Ideen direkt einzubringen. \nUnsere Veranstaltungen stehen für einen offenen Austausch auf Augenhöhe\, transparente Kommunalpolitik und echtes Interesse an den Themen\, die unsere Gemeinde bewegen. Ob Informationsabend\, Bürgertreff oder gemeinsame Abschlussveranstaltung – wir freuen uns auf viele gute Gespräche in angenehmer Atmosphäre. \nGemeinsam. Engagiert. Bürgernah.Wir GEBen alles für unsere Gemeinde und freuen uns auf euren Besuch.
URL:https://geb-wallersdorf.de/wp/veranstaltung/unsere-wahlveranstaltungen-persoenlich-offen-und-buergernah-3/
LOCATION:Gasthaus Haselbeck\, Moosfürth
ATTACH;FMTTYPE=image/jpeg:https://geb-wallersdorf.de/wp/wp-content/uploads/2026/01/2-e1768934131429.jpeg
END:VEVENT
END:VCALENDAR