BEGIN:VCALENDAR
VERSION:2.0
PRODID:-//Gemeinschaft Engagierter Bürger - ECPv6.15.15//NONSGML v1.0//EN
CALSCALE:GREGORIAN
METHOD:PUBLISH
X-WR-CALNAME:Gemeinschaft Engagierter Bürger
X-ORIGINAL-URL:https://geb-wallersdorf.de/wp
X-WR-CALDESC:Veranstaltungen für Gemeinschaft Engagierter Bürger
REFRESH-INTERVAL;VALUE=DURATION:PT1H
X-Robots-Tag:noindex
X-PUBLISHED-TTL:PT1H
BEGIN:VTIMEZONE
TZID:Europe/Berlin
BEGIN:DAYLIGHT
TZOFFSETFROM:+0100
TZOFFSETTO:+0200
TZNAME:CEST
DTSTART:20250330T010000
END:DAYLIGHT
BEGIN:STANDARD
TZOFFSETFROM:+0200
TZOFFSETTO:+0100
TZNAME:CET
DTSTART:20251026T010000
END:STANDARD
BEGIN:DAYLIGHT
TZOFFSETFROM:+0100
TZOFFSETTO:+0200
TZNAME:CEST
DTSTART:20260329T010000
END:DAYLIGHT
BEGIN:STANDARD
TZOFFSETFROM:+0200
TZOFFSETTO:+0100
TZNAME:CET
DTSTART:20261025T010000
END:STANDARD
BEGIN:DAYLIGHT
TZOFFSETFROM:+0100
TZOFFSETTO:+0200
TZNAME:CEST
DTSTART:20270328T010000
END:DAYLIGHT
BEGIN:STANDARD
TZOFFSETFROM:+0200
TZOFFSETTO:+0100
TZNAME:CET
DTSTART:20271031T010000
END:STANDARD
END:VTIMEZONE
BEGIN:VEVENT
DTSTART;TZID=Europe/Berlin:20260506T190000
DTEND;TZID=Europe/Berlin:20260506T200000
DTSTAMP:20260421T195825
CREATED:20260421T140833Z
LAST-MODIFIED:20260421T140833Z
UID:1816-1778094000-1778097600@geb-wallersdorf.de
SUMMARY:Konstituierende Sitzung des neuen Marktgemeinderats
DESCRIPTION:Am 06. Mai findet um 19:00 Uhr im Rathaus die konstituierende Sitzung des neu gewählten Marktgemeinderats statt. Dabei konstituiert sich das Gremium\, und die neu gewählten Gemeinderätinnen und Gemeinderäte leisten ihren Amtseid. Die Öffentlichkeit ist herzlich eingeladen\, daran teilzunehmen. Im Anschluss folgt der öffentliche Sitzungsteil\, bevor die Sitzung in einen nichtöffentlichen Teil übergeht.
URL:https://geb-wallersdorf.de/wp/veranstaltung/konstituierende-sitzung-des-neuen-marktgemeinderats/
LOCATION:Rathaus Wallersdorf
END:VEVENT
END:VCALENDAR